Package: spatialFDA Version: 1.2.0 Command: /home/biocbuild/bbs-3.22-bioc/R/bin/R CMD build --keep-empty-dirs --no-resave-data --md5 spatialFDA StartedAt: 2025-11-06 20:14:29 -0500 (Thu, 06 Nov 2025) EndedAt: 2025-11-06 20:20:42 -0500 (Thu, 06 Nov 2025) EllapsedTime: 373.4 seconds RetCode: 0 Status: OK PackageFile: spatialFDA_1.2.0.tar.gz PackageFileSize: 6.146 MiB