Package: spatialFDA Version: 1.0.0 Command: /home/biocbuild/bbs-3.21-bioc/R/bin/R CMD INSTALL spatialFDA StartedAt: 2025-10-01 15:29:46 -0400 (Wed, 01 Oct 2025) EndedAt: 2025-10-01 15:30:19 -0400 (Wed, 01 Oct 2025) EllapsedTime: 32.6 seconds RetCode: 0 Status: OK