Package: spatialFDA Version: 1.0.0 Command: /home/biocbuild/bbs-3.21-bioc/R/bin/R CMD build --keep-empty-dirs --no-resave-data spatialFDA StartedAt: 2025-10-01 20:08:08 -0400 (Wed, 01 Oct 2025) EndedAt: 2025-10-01 20:11:29 -0400 (Wed, 01 Oct 2025) EllapsedTime: 201.2 seconds RetCode: 0 Status: OK PackageFile: spatialFDA_1.0.0.tar.gz PackageFileSize: 3.516 MiB