Package: spatialFDA Version: 1.0.0 Command: /Library/Frameworks/R.framework/Resources/bin/R CMD INSTALL spatialFDA StartedAt: 2025-10-09 15:47:47 -0400 (Thu, 09 Oct 2025) EndedAt: 2025-10-09 15:48:58 -0400 (Thu, 09 Oct 2025) EllapsedTime: 70.7 seconds RetCode: 0 Status: OK