Package: spatialFDA Version: 1.0.0 Command: /Library/Frameworks/R.framework/Resources/bin/R CMD build --keep-empty-dirs --no-resave-data spatialFDA StartedAt: 2025-10-09 22:53:52 -0400 (Thu, 09 Oct 2025) EndedAt: 2025-10-09 22:59:38 -0400 (Thu, 09 Oct 2025) EllapsedTime: 345.6 seconds RetCode: 0 Status: OK PackageFile: spatialFDA_1.0.0.tar.gz PackageFileSize: 3.928 MiB