Package: spatialFDA Version: 1.0.0 Command: rm -rf spatialFDA.buildbin-libdir && mkdir spatialFDA.buildbin-libdir && /Users/biocbuild/BBS/utils/build-universal.sh spatialFDA_1.0.0.tar.gz /Library/Frameworks/R.framework/Resources/bin/R spatialFDA.buildbin-libdir StartedAt: 2025-10-10 14:52:12 -0400 (Fri, 10 Oct 2025) EndedAt: 2025-10-10 14:53:35 -0400 (Fri, 10 Oct 2025) EllapsedTime: 82.4 seconds RetCode: 0 Status: OK PackageFile: spatialFDA_1.0.0.tgz PackageFileSize: 3.989 MiB