Package: spatialFDA Version: 1.0.0 Command: /Library/Frameworks/R.framework/Resources/bin/R CMD INSTALL spatialFDA StartedAt: 2025-09-29 16:34:11 -0400 (Mon, 29 Sep 2025) EndedAt: 2025-09-29 16:34:51 -0400 (Mon, 29 Sep 2025) EllapsedTime: 40.0 seconds RetCode: 0 Status: OK