Package: spatialFDA Version: 1.0.0 Command: /Library/Frameworks/R.framework/Resources/bin/R CMD build --keep-empty-dirs --no-resave-data spatialFDA StartedAt: 2025-09-30 10:00:18 -0400 (Tue, 30 Sep 2025) EndedAt: 2025-09-30 10:04:57 -0400 (Tue, 30 Sep 2025) EllapsedTime: 278.8 seconds RetCode: 0 Status: OK PackageFile: spatialFDA_1.0.0.tar.gz PackageFileSize: 3.943 MiB