Package: spatialFDA Version: 1.0.0 Command: rm -rf spatialFDA.buildbin-libdir && mkdir spatialFDA.buildbin-libdir && /Users/biocbuild/BBS/utils/build-universal.sh spatialFDA_1.0.0.tar.gz /Library/Frameworks/R.framework/Resources/bin/R spatialFDA.buildbin-libdir StartedAt: 2025-10-01 20:38:32 -0400 (Wed, 01 Oct 2025) EndedAt: 2025-10-01 20:39:18 -0400 (Wed, 01 Oct 2025) EllapsedTime: 46.1 seconds RetCode: 0 Status: OK PackageFile: spatialFDA_1.0.0.tgz PackageFileSize: 4.004 MiB