Package: spatialDE Version: 1.12.0 Command: /home/biocbuild/R/R/bin/R CMD check --install=check:spatialDE.install-out.txt --library=/home/biocbuild/R/R/site-library --no-vignettes --timings spatialDE_1.12.0.tar.gz StartedAt: 2025-01-31 10:38:19 -0000 (Fri, 31 Jan 2025) EndedAt: 2025-01-31 10:43:49 -0000 (Fri, 31 Jan 2025) EllapsedTime: 330.3 seconds RetCode: 0 Status: OK CheckDir: spatialDE.Rcheck Warnings: 0