Package: sparseMatrixStats Version: 1.18.0 Command: /home/biocbuild/R/R/bin/R CMD INSTALL sparseMatrixStats StartedAt: 2025-01-30 20:09:08 -0000 (Thu, 30 Jan 2025) EndedAt: 2025-01-30 20:10:15 -0000 (Thu, 30 Jan 2025) EllapsedTime: 67.5 seconds RetCode: 0 Status: OK