Package: sparrow Version: 1.12.0 Command: /home/biocbuild/R/R/bin/R CMD build --keep-empty-dirs --no-resave-data sparrow StartedAt: 2025-01-31 02:51:30 -0000 (Fri, 31 Jan 2025) EndedAt: 2025-01-31 02:55:41 -0000 (Fri, 31 Jan 2025) EllapsedTime: 251.2 seconds RetCode: 0 Status: OK PackageFile: sparrow_1.12.0.tar.gz PackageFileSize: 3.875 MiB