Package: sparrow Version: 1.14.0 Command: /Library/Frameworks/R.framework/Resources/bin/R CMD build --keep-empty-dirs --no-resave-data sparrow StartedAt: 2025-04-21 18:32:21 -0400 (Mon, 21 Apr 2025) EndedAt: 2025-04-21 18:33:37 -0400 (Mon, 21 Apr 2025) EllapsedTime: 76.6 seconds RetCode: 0 Status: OK PackageFile: sparrow_1.14.0.tar.gz PackageFileSize: 4.128 MiB