Package: spacexr Version: 1.2.0 Command: /home/biocbuild/bbs-3.22-bioc/R/bin/R CMD INSTALL spacexr StartedAt: 2025-11-06 15:20:29 -0500 (Thu, 06 Nov 2025) EndedAt: 2025-11-06 15:20:58 -0500 (Thu, 06 Nov 2025) EllapsedTime: 29.0 seconds RetCode: 0 Status: OK