Package: spacexr Version: 1.2.0 Command: /home/biocbuild/bbs-3.22-bioc/R/bin/R CMD build --keep-empty-dirs --no-resave-data --md5 spacexr StartedAt: 2025-11-06 20:11:40 -0500 (Thu, 06 Nov 2025) EndedAt: 2025-11-06 20:13:18 -0500 (Thu, 06 Nov 2025) EllapsedTime: 98.1 seconds RetCode: 0 Status: OK PackageFile: spacexr_1.2.0.tar.gz PackageFileSize: 432.6 KiB