Package: spacexr Version: 1.2.0 Command: /Library/Frameworks/R.framework/Resources/bin/R CMD INSTALL spacexr StartedAt: 2025-11-17 17:29:46 -0500 (Mon, 17 Nov 2025) EndedAt: 2025-11-17 17:29:57 -0500 (Mon, 17 Nov 2025) EllapsedTime: 11.4 seconds RetCode: 0 Status: OK