Package: spacexr Version: 1.2.0 Command: /Library/Frameworks/R.framework/Resources/bin/R CMD build --keep-empty-dirs --no-resave-data spacexr StartedAt: 2025-11-18 01:10:56 -0500 (Tue, 18 Nov 2025) EndedAt: 2025-11-18 01:11:39 -0500 (Tue, 18 Nov 2025) EllapsedTime: 43.3 seconds RetCode: 0 Status: OK PackageFile: spacexr_1.2.0.tar.gz PackageFileSize: 482.9 KiB