Package: spacexr Version: 1.2.0 Command: rm -rf spacexr.buildbin-libdir && mkdir spacexr.buildbin-libdir && /Users/biocbuild/BBS/utils/build-universal.sh spacexr_1.2.0.tar.gz /Library/Frameworks/R.framework/Resources/bin/R spacexr.buildbin-libdir StartedAt: 2025-11-18 16:27:38 -0500 (Tue, 18 Nov 2025) EndedAt: 2025-11-18 16:27:53 -0500 (Tue, 18 Nov 2025) EllapsedTime: 15.2 seconds RetCode: 0 Status: OK PackageFile: spacexr_1.2.0.tgz PackageFileSize: 1002 KiB