Package: snpStats Version: 1.58.0 Command: rm -rf snpStats.buildbin-libdir && mkdir snpStats.buildbin-libdir && /Users/biocbuild/BBS/utils/build-universal.sh snpStats_1.58.0.tar.gz /Library/Frameworks/R.framework/Resources/bin/R snpStats.buildbin-libdir StartedAt: 2025-05-09 13:24:40 -0400 (Fri, 09 May 2025) EndedAt: 2025-05-09 13:25:37 -0400 (Fri, 09 May 2025) EllapsedTime: 56.9 seconds RetCode: 0 Status: OK PackageFile: snpStats_1.58.0.tgz PackageFileSize: 8.506 MiB