Package: snpStats Version: 1.58.0 Command: /Library/Frameworks/R.framework/Resources/bin/R CMD INSTALL snpStats StartedAt: 2025-04-21 15:12:01 -0400 (Mon, 21 Apr 2025) EndedAt: 2025-04-21 15:12:25 -0400 (Mon, 21 Apr 2025) EllapsedTime: 24.3 seconds RetCode: 0 Status: OK