Package: snpStats Version: 1.58.0 Command: /Library/Frameworks/R.framework/Resources/bin/R CMD check --install=check:snpStats.install-out.txt --library=/Library/Frameworks/R.framework/Resources/library --no-vignettes --timings snpStats_1.58.0.tar.gz StartedAt: 2025-04-21 23:41:30 -0400 (Mon, 21 Apr 2025) EndedAt: 2025-04-21 23:42:52 -0400 (Mon, 21 Apr 2025) EllapsedTime: 81.5 seconds RetCode: 0 Status: WARNINGS CheckDir: snpStats.Rcheck Warnings: 2