Package: snpStats Version: 1.58.0 Command: /Library/Frameworks/R.framework/Resources/bin/R CMD build --keep-empty-dirs --no-resave-data snpStats StartedAt: 2025-04-21 17:42:43 -0400 (Mon, 21 Apr 2025) EndedAt: 2025-04-21 17:43:18 -0400 (Mon, 21 Apr 2025) EllapsedTime: 34.4 seconds RetCode: 0 Status: OK PackageFile: snpStats_1.58.0.tar.gz PackageFileSize: 7.732 MiB