Package: snpStats Version: 1.58.0 Command: /Library/Frameworks/R.framework/Resources/bin/R CMD check --install=check:snpStats.install-out.txt --library=/Library/Frameworks/R.framework/Resources/library --no-vignettes --timings snpStats_1.58.0.tar.gz StartedAt: 2025-05-14 10:04:05 -0400 (Wed, 14 May 2025) EndedAt: 2025-05-14 10:05:27 -0400 (Wed, 14 May 2025) EllapsedTime: 81.8 seconds RetCode: 0 Status: WARNINGS CheckDir: snpStats.Rcheck Warnings: 2