Package: snm Version: 1.56.0 Command: /Library/Frameworks/R.framework/Resources/bin/R CMD INSTALL snm StartedAt: 2025-05-22 15:12:47 -0400 (Thu, 22 May 2025) EndedAt: 2025-05-22 15:13:42 -0400 (Thu, 22 May 2025) EllapsedTime: 55.4 seconds RetCode: 0 Status: OK