Package: smoppix Version: 1.2.0 Command: /home/biocbuild/bbs-3.22-bioc/R/bin/R CMD INSTALL smoppix StartedAt: 2025-11-16 15:25:34 -0500 (Sun, 16 Nov 2025) EndedAt: 2025-11-16 15:26:23 -0500 (Sun, 16 Nov 2025) EllapsedTime: 48.7 seconds RetCode: 0 Status: OK