Package: smoppix Version: 1.2.0 Command: /Library/Frameworks/R.framework/Resources/bin/R CMD build --keep-empty-dirs --no-resave-data smoppix StartedAt: 2025-11-10 17:48:15 -0500 (Mon, 10 Nov 2025) EndedAt: 2025-11-10 17:50:04 -0500 (Mon, 10 Nov 2025) EllapsedTime: 109.1 seconds RetCode: 0 Status: OK PackageFile: smoppix_1.2.0.tar.gz PackageFileSize: 5.501 MiB