Package: smoppix Version: 1.2.0 Command: rm -rf smoppix.buildbin-libdir && mkdir smoppix.buildbin-libdir && /Users/biocbuild/BBS/utils/build-universal.sh smoppix_1.2.0.tar.gz /Library/Frameworks/R.framework/Resources/bin/R smoppix.buildbin-libdir StartedAt: 2025-11-10 23:37:32 -0500 (Mon, 10 Nov 2025) EndedAt: 2025-11-10 23:37:49 -0500 (Mon, 10 Nov 2025) EllapsedTime: 16.4 seconds RetCode: 0 Status: OK PackageFile: smoppix_1.2.0.tgz PackageFileSize: 5.693 MiB