Package: smoothclust Version: 1.4.0 Command: /home/biocbuild/bbs-3.21-bioc/R/bin/R CMD INSTALL smoothclust StartedAt: 2025-10-15 15:24:11 -0400 (Wed, 15 Oct 2025) EndedAt: 2025-10-15 15:24:37 -0400 (Wed, 15 Oct 2025) EllapsedTime: 26.3 seconds RetCode: 0 Status: OK