Package: smartid Version: 1.2.0 Command: /home/biocbuild/R/R/bin/R CMD check --install=check:smartid.install-out.txt --library=/home/biocbuild/R/R/site-library --no-vignettes --timings smartid_1.2.0.tar.gz StartedAt: 2025-01-31 10:33:05 -0000 (Fri, 31 Jan 2025) EndedAt: 2025-01-31 10:36:50 -0000 (Fri, 31 Jan 2025) EllapsedTime: 225.2 seconds RetCode: 0 Status: OK CheckDir: smartid.Rcheck Warnings: 0