Package: smartid Version: 1.4.0 Command: /Library/Frameworks/R.framework/Resources/bin/R CMD check --install=check:smartid.install-out.txt --library=/Library/Frameworks/R.framework/Resources/library --no-vignettes --timings smartid_1.4.0.tar.gz StartedAt: 2025-05-06 10:05:33 -0400 (Tue, 06 May 2025) EndedAt: 2025-05-06 10:20:48 -0400 (Tue, 06 May 2025) EllapsedTime: 915.0 seconds RetCode: 0 Status: OK CheckDir: smartid.Rcheck Warnings: 0