Package: smartid Version: 1.4.0 Command: rm -rf smartid.buildbin-libdir && mkdir smartid.buildbin-libdir && /Users/biocbuild/BBS/utils/build-universal.sh smartid_1.4.0.tar.gz /Library/Frameworks/R.framework/Resources/bin/R smartid.buildbin-libdir StartedAt: 2025-05-06 13:47:15 -0400 (Tue, 06 May 2025) EndedAt: 2025-05-06 13:49:00 -0400 (Tue, 06 May 2025) EllapsedTime: 105.4 seconds RetCode: 0 Status: OK PackageFile: smartid_1.4.0.tgz PackageFileSize: 2.119 MiB