Package: smartid Version: 1.4.0 Command: /home/biocbuild/R/R/bin/R CMD check --install=check:smartid.install-out.txt --library=/home/biocbuild/R/R/site-library --no-vignettes --timings smartid_1.4.0.tar.gz StartedAt: 2025-05-09 13:57:12 -0000 (Fri, 09 May 2025) EndedAt: 2025-05-09 14:01:30 -0000 (Fri, 09 May 2025) EllapsedTime: 258.3 seconds RetCode: 0 Status: OK CheckDir: smartid.Rcheck Warnings: 0