Package: slingshot Version: 2.14.0 Command: /home/biocbuild/bbs-3.20-bioc/R/bin/R CMD check --install=check:slingshot.install-out.txt --library=/home/biocbuild/bbs-3.20-bioc/R/site-library --timings slingshot_2.14.0.tar.gz StartedAt: 2025-01-31 02:26:57 -0500 (Fri, 31 Jan 2025) EndedAt: 2025-01-31 02:30:54 -0500 (Fri, 31 Jan 2025) EllapsedTime: 237.2 seconds RetCode: 0 Status: OK CheckDir: slingshot.Rcheck Warnings: 0