Package: slingshot Version: 2.14.0 Command: /home/biocbuild/bbs-3.20-bioc/R/bin/R CMD build --keep-empty-dirs --no-resave-data --md5 slingshot StartedAt: 2025-01-30 19:13:22 -0500 (Thu, 30 Jan 2025) EndedAt: 2025-01-30 19:14:15 -0500 (Thu, 30 Jan 2025) EllapsedTime: 53.1 seconds RetCode: 0 Status: OK PackageFile: slingshot_2.14.0.tar.gz PackageFileSize: 1.835 MiB