Package: slingshot Version: 2.16.0 Command: /Library/Frameworks/R.framework/Resources/bin/R CMD build --keep-empty-dirs --no-resave-data slingshot StartedAt: 2025-04-21 18:30:43 -0400 (Mon, 21 Apr 2025) EndedAt: 2025-04-21 18:31:51 -0400 (Mon, 21 Apr 2025) EllapsedTime: 68.6 seconds RetCode: 0 Status: OK PackageFile: slingshot_2.16.0.tar.gz PackageFileSize: 2.264 MiB