Package: slingshot Version: 2.16.0 Command: /Library/Frameworks/R.framework/Resources/bin/R CMD build --keep-empty-dirs --no-resave-data slingshot StartedAt: 2025-04-29 01:12:19 -0400 (Tue, 29 Apr 2025) EndedAt: 2025-04-29 01:12:43 -0400 (Tue, 29 Apr 2025) EllapsedTime: 24.3 seconds RetCode: 0 Status: OK PackageFile: slingshot_2.16.0.tar.gz PackageFileSize: 2.278 MiB