Package: slalom Version: 1.28.0 Command: chmod a+r slalom -R && F:\biocbuild\bbs-3.20-bioc\R\bin\R.exe CMD build --keep-empty-dirs --no-resave-data slalom StartedAt: 2025-01-30 21:57:04 -0500 (Thu, 30 Jan 2025) EndedAt: 2025-01-30 21:58:55 -0500 (Thu, 30 Jan 2025) EllapsedTime: 111.2 seconds RetCode: 0 Status: OK PackageFile: slalom_1.28.0.tar.gz PackageFileSize: 17.42 MiB