Package: slalom Version: 1.28.0 Command: /Library/Frameworks/R.framework/Resources/bin/R CMD INSTALL slalom StartedAt: 2025-01-30 16:30:07 -0500 (Thu, 30 Jan 2025) EndedAt: 2025-01-30 16:30:29 -0500 (Thu, 30 Jan 2025) EllapsedTime: 21.9 seconds RetCode: 1 Status: ERROR