Package: slalom Version: 1.30.0 Command: /home/biocbuild/R/R/bin/R CMD INSTALL slalom StartedAt: 2025-05-05 20:44:12 -0000 (Mon, 05 May 2025) EndedAt: 2025-05-05 20:45:31 -0000 (Mon, 05 May 2025) EllapsedTime: 78.5 seconds RetCode: 0 Status: OK