Package: slalom Version: 1.30.0 Command: /home/biocbuild/R/R/bin/R CMD build --keep-empty-dirs --no-resave-data slalom StartedAt: 2025-05-06 04:31:25 -0000 (Tue, 06 May 2025) EndedAt: 2025-05-06 04:33:33 -0000 (Tue, 06 May 2025) EllapsedTime: 128.0 seconds RetCode: 0 Status: OK PackageFile: slalom_1.30.0.tar.gz PackageFileSize: 17.58 MiB