Package: sitadela Version: 1.14.0 Command: /home/biocbuild/R/R/bin/R CMD check --install=check:sitadela.install-out.txt --library=/home/biocbuild/R/R/site-library --no-vignettes --timings sitadela_1.14.0.tar.gz StartedAt: 2025-01-31 10:31:02 -0000 (Fri, 31 Jan 2025) EndedAt: 2025-01-31 10:38:56 -0000 (Fri, 31 Jan 2025) EllapsedTime: 474.4 seconds RetCode: 0 Status: OK CheckDir: sitadela.Rcheck Warnings: 0