Package: sitadela Version: 1.16.0 Maintainer: Panagiotis Moulos MaintainerEmail: moulos at fleming.gr git_url: https://git.bioconductor.org/packages/sitadela git_branch: RELEASE_3_21 git_last_commit: 03f2669 git_last_commit_date: 2025-04-15 12:22:46 -0400 (Tue, 15 Apr 2025)