Package: singscore Version: 1.26.0 Command: /home/biocbuild/R/R/bin/R CMD INSTALL singscore StartedAt: 2025-01-30 20:42:29 -0000 (Thu, 30 Jan 2025) EndedAt: 2025-01-30 20:43:08 -0000 (Thu, 30 Jan 2025) EllapsedTime: 39.6 seconds RetCode: 0 Status: OK