Package: singscore Version: 1.26.0 Command: /home/biocbuild/R/R/bin/R CMD build --keep-empty-dirs --no-resave-data singscore StartedAt: 2025-01-31 02:47:09 -0000 (Fri, 31 Jan 2025) EndedAt: 2025-01-31 02:48:30 -0000 (Fri, 31 Jan 2025) EllapsedTime: 81.1 seconds RetCode: 0 Status: OK PackageFile: singscore_1.26.0.tar.gz PackageFileSize: 2.522 MiB