Package: singscore Version: 1.26.0 Command: F:\biocbuild\bbs-3.20-bioc\R\bin\R.exe CMD check --no-multiarch --install=check:singscore.install-out.txt --library=F:\biocbuild\bbs-3.20-bioc\R\library --no-vignettes --timings singscore_1.26.0.tar.gz StartedAt: 2025-01-31 06:35:02 -0500 (Fri, 31 Jan 2025) EndedAt: 2025-01-31 06:39:52 -0500 (Fri, 31 Jan 2025) EllapsedTime: 290.0 seconds RetCode: 0 Status: OK CheckDir: singscore.Rcheck Warnings: 0