Package: singscore Version: 1.26.0 Command: rm -rf singscore.buildbin-libdir && mkdir singscore.buildbin-libdir && F:\biocbuild\bbs-3.20-bioc\R\bin\R.exe CMD INSTALL --build --library=singscore.buildbin-libdir singscore_1.26.0.tar.gz StartedAt: 2025-01-31 09:39:11 -0500 (Fri, 31 Jan 2025) EndedAt: 2025-01-31 09:39:59 -0500 (Fri, 31 Jan 2025) EllapsedTime: 48.4 seconds RetCode: 0 Status: OK PackageFile: singscore_1.26.0.zip PackageFileSize: 2.879 MiB