Package: singscore Version: 1.26.0 Command: rm -rf singscore.buildbin-libdir && mkdir singscore.buildbin-libdir && /Users/biocbuild/BBS/utils/build-universal.sh singscore_1.26.0.tar.gz /Library/Frameworks/R.framework/Resources/bin/R singscore.buildbin-libdir StartedAt: 2025-02-01 16:57:17 -0500 (Sat, 01 Feb 2025) EndedAt: 2025-02-01 16:57:59 -0500 (Sat, 01 Feb 2025) EllapsedTime: 42.0 seconds RetCode: 0 Status: OK PackageFile: singscore_1.26.0.tgz PackageFileSize: 3.444 MiB