Back to Multiple platform build/check report for BioC 3.22:   simplified   long
ABCDEFGHIJKLMNOPQR[S]TUVWXYZ

This page was generated on 2025-11-05 12:39 -0500 (Wed, 05 Nov 2025).

HostnameOSArch (*)R versionInstalled pkgs
nebbiolo2Linux (Ubuntu 24.04.3 LTS)x86_644.5.1 Patched (2025-08-23 r88802) -- "Great Square Root" 4902
kjohnson3macOS 13.7.7 Venturaarm644.5.1 Patched (2025-09-10 r88807) -- "Great Square Root" 4638
Click on any hostname to see more info about the system (e.g. compilers)      (*) as reported by 'uname -p', except on Windows and Mac OS X

All results for package singscore


To the developers/maintainers of the singscore package:
- Allow up to 24 hours (and sometimes 48 hours) for your latest push to git@git.bioconductor.org:packages/singscore.git to reflect on this report. See Troubleshooting Build Report for more information.
- Use the following Renviron settings to reproduce errors and warnings.
- If 'R CMD check' started to fail recently on the Linux builder(s) over a missing dependency, add the missing dependency to 'Suggests:' in your DESCRIPTION file. See Renviron.bioc for more information.

raw results

Package 2036/2361HostnameOS / ArchINSTALLBUILDCHECKBUILD BIN
singscore 1.30.0  (landing page)
Malvika Kharbanda
Snapshot Date: 2025-11-04 13:45 -0500 (Tue, 04 Nov 2025)
git_url: https://git.bioconductor.org/packages/singscore
git_branch: RELEASE_3_22
git_last_commit: 5bc304d
git_last_commit_date: 2025-10-29 10:45:11 -0500 (Wed, 29 Oct 2025)
nebbiolo2Linux (Ubuntu 24.04.3 LTS) / x86_64  OK    OK    OK  UNNEEDED, same version is already published
kjohnson3macOS 13.7.7 Ventura / arm64  OK    OK    OK    OK  UNNEEDED, same version is already published



Results for Bioconductor software packages that depend directly on package singscore

QUICK STATSOS / ArchINSTALLBUILDCHECKBUILD BIN
nebbiolo2Linux (Ubuntu 24.04.3 LTS) / x86_64
003
003
0003
kjohnson3macOS 13.7.7 Ventura / arm64
003
003
0102
003
Package 1/3HostnameOS / ArchINSTALLBUILDCHECKBUILD BIN
pathMED 1.2.0  (landing page)
Jordi Martorell-Marugán
git_last_commit: b17f51c
git_last_commit_date: 2025-10-29 11:36:06 -0500
nebbiolo2Linux (Ubuntu 24.04.3 LTS) / x86_64  OK    OK    OK  UNNEEDED, same version is already published
kjohnson3macOS 13.7.7 Ventura / arm64  OK    OK    ERROR    OK  
Package 2/3HostnameOS / ArchINSTALLBUILDCHECKBUILD BIN
TBSignatureProfiler 1.22.0  (landing page)
Kiloni Quiles
git_last_commit: 376376a
git_last_commit_date: 2025-10-29 10:58:59 -0500
nebbiolo2Linux (Ubuntu 24.04.3 LTS) / x86_64  OK    OK    OK  UNNEEDED, same version is already published
kjohnson3macOS 13.7.7 Ventura / arm64  OK    OK    OK    OK  UNNEEDED, same version is already published
Package 3/3HostnameOS / ArchINSTALLBUILDCHECKBUILD BIN
xCell2 1.2.0  (landing page)
Almog Angel
git_last_commit: d42142a
git_last_commit_date: 2025-10-29 11:33:51 -0500
nebbiolo2Linux (Ubuntu 24.04.3 LTS) / x86_64  OK    OK    OK  UNNEEDED, same version is already published
kjohnson3macOS 13.7.7 Ventura / arm64  OK    OK    OK    OK  UNNEEDED, same version is already published