Package: singleCellTK Version: 2.18.1 Command: chmod a+r singleCellTK -R && E:\biocbuild\bbs-3.21-bioc\R\bin\R.exe CMD build --keep-empty-dirs --no-resave-data singleCellTK StartedAt: 2025-08-14 22:17:45 -0400 (Thu, 14 Aug 2025) EndedAt: 2025-08-14 22:20:20 -0400 (Thu, 14 Aug 2025) EllapsedTime: 155.1 seconds RetCode: 0 Status: OK PackageFile: singleCellTK_2.18.1.tar.gz PackageFileSize: 3.239 MiB