Package: single Version: 1.10.0 Command: /home/biocbuild/bbs-3.20-bioc/R/bin/R CMD INSTALL single StartedAt: 2025-01-30 15:18:12 -0500 (Thu, 30 Jan 2025) EndedAt: 2025-01-30 15:18:40 -0500 (Thu, 30 Jan 2025) EllapsedTime: 28.3 seconds RetCode: 0 Status: OK